BEGIN:VCALENDAR
VERSION:2.0
PRODID:-//Spalding Academy - ECPv6.15.20//NONSGML v1.0//EN
CALSCALE:GREGORIAN
METHOD:PUBLISH
X-WR-CALNAME:Spalding Academy
X-ORIGINAL-URL:https://www.spaldingacademy.org.uk
X-WR-CALDESC:Events for Spalding Academy
REFRESH-INTERVAL;VALUE=DURATION:PT1H
X-Robots-Tag:noindex
X-PUBLISHED-TTL:PT1H
BEGIN:VTIMEZONE
TZID:Europe/Paris
BEGIN:DAYLIGHT
TZOFFSETFROM:+0100
TZOFFSETTO:+0200
TZNAME:CEST
DTSTART:20240331T010000
END:DAYLIGHT
BEGIN:STANDARD
TZOFFSETFROM:+0200
TZOFFSETTO:+0100
TZNAME:CET
DTSTART:20241027T010000
END:STANDARD
BEGIN:DAYLIGHT
TZOFFSETFROM:+0100
TZOFFSETTO:+0200
TZNAME:CEST
DTSTART:20250330T010000
END:DAYLIGHT
BEGIN:STANDARD
TZOFFSETFROM:+0200
TZOFFSETTO:+0100
TZNAME:CET
DTSTART:20251026T010000
END:STANDARD
BEGIN:DAYLIGHT
TZOFFSETFROM:+0100
TZOFFSETTO:+0200
TZNAME:CEST
DTSTART:20260329T010000
END:DAYLIGHT
BEGIN:STANDARD
TZOFFSETFROM:+0200
TZOFFSETTO:+0100
TZNAME:CET
DTSTART:20261025T010000
END:STANDARD
END:VTIMEZONE
BEGIN:VEVENT
DTSTART;VALUE=DATE:20250617
DTEND;VALUE=DATE:20250618
DTSTAMP:20260424T080615
CREATED:20250113T111045Z
LAST-MODIFIED:20250113T111045Z
UID:19321-1750118400-1750204799@www.spaldingacademy.org.uk
SUMMARY:U13 Cricket Comp
DESCRIPTION:
URL:https://www.spaldingacademy.org.uk/event/u13-cricket-comp/
CATEGORIES:Sporting Events
END:VEVENT
BEGIN:VEVENT
DTSTART;VALUE=DATE:20250618
DTEND;VALUE=DATE:20250619
DTSTAMP:20260424T080615
CREATED:20250113T111103Z
LAST-MODIFIED:20250113T111103Z
UID:19323-1750204800-1750291199@www.spaldingacademy.org.uk
SUMMARY:Yr 10 Rounders Tournament
DESCRIPTION:
URL:https://www.spaldingacademy.org.uk/event/yr-10-rounders-tournament/
CATEGORIES:Sporting Events
END:VEVENT
BEGIN:VEVENT
DTSTART;VALUE=DATE:20250626
DTEND;VALUE=DATE:20250627
DTSTAMP:20260424T080615
CREATED:20250113T111449Z
LAST-MODIFIED:20250113T111449Z
UID:19329-1750896000-1750982399@www.spaldingacademy.org.uk
SUMMARY:Year 7 Rounders Tournament
DESCRIPTION:
URL:https://www.spaldingacademy.org.uk/event/year-7-rounders-tournament/
CATEGORIES:Sporting Events
END:VEVENT
END:VCALENDAR